BEGIN:VCALENDAR
VERSION:2.0
PRODID:-//Africa 2.0 - ECPv4.5.2.1//NONSGML v1.0//EN
CALSCALE:GREGORIAN
METHOD:PUBLISH
X-WR-CALNAME:Africa 2.0
X-ORIGINAL-URL:http://www.africa2point0.org
X-WR-CALDESC:Events for Africa 2.0
BEGIN:VEVENT
DTSTART;TZID=UTC+0:20141119T080000
DTEND;TZID=UTC+0:20141121T170000
DTSTAMP:20260419T094935
CREATED:20170430T064558Z
LAST-MODIFIED:20170522T154600Z
UID:609-1416384000-1416589200@www.africa2point0.org
SUMMARY:4th Annual Leadership Symposium Accra Ghana
DESCRIPTION:[embed]https://www.youtube.com/watch?v=SdKU1OcXrbg&t=5s[/embed]\n\nFrom the 19th till 21st November 2014\, we gathered in Accra\, Ghana to make personal commitments for 2015.\n\nParticipants came from all over the world\, including Ghana\, Cameroun\, Nigeria\, South Africa\, Guinea\, UK\, Sierra Leone\, Kenya\, Spain\, Ethiopia\, Mauritius to name a few\, and we were inspired to see so many friends of Africa and emerging African leaders together in one room\, working collaboratively across sectors and nationalities.\n\nThe numbers speak for themselves:\n\n \t508 registered participants.\n \t40 nationalities\, from all over the world\, represented.\n \t10 international media houses represented present and coverage by CNN\, Bloomberg TV\, CNBC and a mention on Big Brother Africa reaching 50 million people.\n \tEquitable representation of men and women with 47% female participants\n \t34000 people reached on facebook\n \t291 Africa 2.0 tweets\, 162 retweets and 83 favourites\n \t210 business partnership opportunities initiated\n \tCorporate attendance\, to name a few: NEPAD Council\, Microsoft\, Chevron\, Stanbic\, Iberia\, Vodaphone Ghana\, Harvard Capital Ventrures\, Google\, USAID\, Bill & Melinda Gates Foundation\, General Electric\, Coca Cola\, IBM\, DHL\, Afrexim Bank\, Africa Finance Corporation\, Bollore Africa Logistics\, Ashoka\, Ecobank\, Sahara Energy\, Dangote Group\, Mo Ibrahim Foundation\, IFC and World Bank.\n\nWe focused on execution\, with workshops and breakout sessions where participants made commitments to action in 2015. We had workshops\, breakout sessions and many inspiring speakers\, including surprise guests such as HE Olusegun Obasanjo\, HE Jerry Rawlings and Minister Anatole CollinetMakosso of Congo. However the stars of the show were the many members of the Africa 2.0 community who shared their stories of passion\, perseverance and focus. Meeting at a time when much of West Africa was being ostracized due to the Ebola outbreak. Despite the challenges faced\, this conference was an example of what is possible when we come together around a common purpose: to push forward the transformation of Africa. For Africa\, by Africans.\n\n \n\n\n\n \n\n
URL:http://www.africa2point0.org/event/4th-annual-leadership-symposium-accra-ghana/
ATTACH;FMTTYPE=image/jpeg:http://www.africa2point0.org/wp-content/uploads/2017/04/10402941_740842145990430_8021773027736353849_n.jpg
END:VEVENT
END:VCALENDAR